BEGIN:VCALENDAR
VERSION:2.0
PRODID:-//192.99.84.55//NONSGML kigkonsult.se iCalcreator 2.20//
CALSCALE:GREGORIAN
METHOD:PUBLISH
X-WR-TIMEZONE:UTC
BEGIN:VEVENT
UID:event1634@Congreso 2017
DTSTAMP:20260421T034437Z
CATEGORIES:Inscripción
DESCRIPTION:Inscripciones y registro\nCategoría: Inscripción\nEnlace: https
 ://www.asociacionlatinoamericanadeantropologia.net/congreso2017/index.php?
 option=com_jem&view=event&id=1634:inscripciones-y-registro\n
DTSTART:20170606T090000Z
DTEND:20170606T170000Z
LOCATION:Auditorio Félix Restrepo\,Universidad Javeriana\,Bogotá\,Colombia
SUMMARY:Inscripciones y registro
URL:https://www.asociacionlatinoamericanadeantropologia.net/congreso2017/in
 dex.php?option=com_jem&view=event&id=1634:inscripciones-y-registro
END:VEVENT
BEGIN:VEVENT
UID:event1637@Congreso 2017
DTSTAMP:20260421T034437Z
CATEGORIES:Debates centrales
DESCRIPTION:El lugar de la cultura en la antropología contemporánea\nCatego
 ría: Debates centrales\nEnlace: https://www.asociacionlatinoamericanadeant
 ropologia.net/congreso2017/index.php?option=com_jem&view=event&id=1637:el-
 lugar-de-la-cultura-en-la-antropologia-contemporanea\n
DTSTART:20170606T183000Z
DTEND:20170606T183000Z
LOCATION:Auditorio Félix Restrepo\,Universidad Javeriana\,Bogotá\,Colombia
SUMMARY:El lugar de la cultura en la antropología contemporánea
URL:https://www.asociacionlatinoamericanadeantropologia.net/congreso2017/in
 dex.php?option=com_jem&view=event&id=1637:el-lugar-de-la-cultura-en-la-ant
 ropologia-contemporanea
END:VEVENT
BEGIN:VEVENT
UID:event1635@Congreso 2017
DTSTAMP:20260421T034437Z
CATEGORIES:Inscripción
DESCRIPTION:Inscripciones y registro\nCategoría: Inscripción\nEnlace: https
 ://www.asociacionlatinoamericanadeantropologia.net/congreso2017/index.php?
 option=com_jem&view=event&id=1635:inscripciones-y-registro\n
DTSTART:20170607T090000Z
DTEND:20170607T170000Z
LOCATION:Auditorio Félix Restrepo\,Universidad Javeriana\,Bogotá\,Colombia
SUMMARY:Inscripciones y registro
URL:https://www.asociacionlatinoamericanadeantropologia.net/congreso2017/in
 dex.php?option=com_jem&view=event&id=1635:inscripciones-y-registro
END:VEVENT
BEGIN:VEVENT
UID:event1664@Congreso 2017
DTSTAMP:20260421T034437Z
CATEGORIES:ANTROPOLOGÍA EN IMÁGENES\, MUESTRA AUDIOVISUAL
DESCRIPTION:Osiba Kangamuke \nCategoría: ANTROPOLOGÍA EN IMÁGENES\, MUESTRA
  AUDIOVISUAL\nEnlace: https://www.asociacionlatinoamericanadeantropologia.
 net/congreso2017/index.php?option=com_jem&view=event&id=1664:osiba-kangamu
 ke\n
DTSTART:20170607T100000Z
DTEND:20170607T110000Z
LOCATION:Auditorio Félix Restrepo\,Universidad Javeriana\,Bogotá\,Colombia
SUMMARY:Osiba Kangamuke 
URL:https://www.asociacionlatinoamericanadeantropologia.net/congreso2017/in
 dex.php?option=com_jem&view=event&id=1664:osiba-kangamuke
END:VEVENT
BEGIN:VEVENT
UID:event1670@Congreso 2017
DTSTAMP:20260421T034437Z
CATEGORIES:ANTROPOLOGÍA EN IMÁGENES\, MUESTRA AUDIOVISUAL
DESCRIPTION:Liminal\, Historias de migración extranjera en Lima\nCategoría:
  ANTROPOLOGÍA EN IMÁGENES\, MUESTRA AUDIOVISUAL\nEnlace: https://www.asoci
 acionlatinoamericanadeantropologia.net/congreso2017/index.php?option=com_j
 em&view=event&id=1670:liminal-historias-de-migracio-n-extranjera-en-lima\n
DTSTART:20170607T143000Z
DTEND:20170607T155000Z
LOCATION:Auditorio Félix Restrepo\,Universidad Javeriana\,Bogotá\,Colombia
SUMMARY:Liminal\, Historias de migración extranjera en Lima
URL:https://www.asociacionlatinoamericanadeantropologia.net/congreso2017/in
 dex.php?option=com_jem&view=event&id=1670:liminal-historias-de-migracio-n-
 extranjera-en-lima
END:VEVENT
BEGIN:VEVENT
UID:event1636@Congreso 2017
DTSTAMP:20260421T034437Z
CATEGORIES:Certificados
DESCRIPTION:Entrega de certificados\nCategoría: Certificados\nEnlace: https
 ://www.asociacionlatinoamericanadeantropologia.net/congreso2017/index.php?
 option=com_jem&view=event&id=1636:entrega-de-certificados\n
DTSTART:20170608T090000Z
DTEND:20170608T180000Z
LOCATION:Auditorio Félix Restrepo\,Universidad Javeriana\,Bogotá\,Colombia
SUMMARY:Entrega de certificados
URL:https://www.asociacionlatinoamericanadeantropologia.net/congreso2017/in
 dex.php?option=com_jem&view=event&id=1636:entrega-de-certificados
END:VEVENT
BEGIN:VEVENT
UID:event1680@Congreso 2017
DTSTAMP:20260421T034437Z
CATEGORIES:ANTROPOLOGÍA EN IMÁGENES\, MUESTRA AUDIOVISUAL
DESCRIPTION:Luna Negra. Xch’ulel jlumaltik. DVD Compilación realizada por P
 ueblos\, Colectivos y Redes de Chiapas. \nCategoría: ANTROPOLOGÍA EN IMÁGE
 NES\, MUESTRA AUDIOVISUAL\nEnlace: https://www.asociacionlatinoamericanade
 antropologia.net/congreso2017/index.php?option=com_jem&view=event&id=1680:
 luna-negra-xch-ulel-jlumaltik-dvd-compilacion-realizada-por-pueblos-colect
 ivos-y-redes-de-chiapas\n
DTSTART:20170608T102000Z
DTEND:20170608T111000Z
LOCATION:Auditorio Félix Restrepo\,Universidad Javeriana\,Bogotá\,Colombia
SUMMARY:Luna Negra. Xch’ulel jlumaltik. DVD Compilación realizada por Puebl
 os\, Colectivos y Redes de Chiapas. 
URL:https://www.asociacionlatinoamericanadeantropologia.net/congreso2017/in
 dex.php?option=com_jem&view=event&id=1680:luna-negra-xch-ulel-jlumaltik-dv
 d-compilacion-realizada-por-pueblos-colectivos-y-redes-de-chiapas
END:VEVENT
BEGIN:VEVENT
UID:event1660@Congreso 2017
DTSTAMP:20260421T034437Z
CATEGORIES:MUESTRA AUDIOVISUAL\, POSTER
DESCRIPTION:Obsolescencia\nCategoría: MUESTRA AUDIOVISUAL\, POSTER\nEnlace:
  https://www.asociacionlatinoamericanadeantropologia.net/congreso2017/inde
 x.php?option=com_jem&view=event&id=1660:obsolescencia\n
DTSTART:20170608T160000Z
DTEND:20170608T171500Z
LOCATION:Auditorio Félix Restrepo\,Universidad Javeriana\,Bogotá\,Colombia
SUMMARY:Obsolescencia
URL:https://www.asociacionlatinoamericanadeantropologia.net/congreso2017/in
 dex.php?option=com_jem&view=event&id=1660:obsolescencia
END:VEVENT
BEGIN:VEVENT
UID:event1746@Congreso 2017
DTSTAMP:20260421T034437Z
CATEGORIES:Certificados
DESCRIPTION:Entrega de certificados\nCategoría: Certificados\nEnlace: https
 ://www.asociacionlatinoamericanadeantropologia.net/congreso2017/index.php?
 option=com_jem&view=event&id=1746:entrega-de-certificados\n
DTSTART:20170609T090000Z
DTEND:20170609T150000Z
LOCATION:Auditorio Félix Restrepo\,Universidad Javeriana\,Bogotá\,Colombia
SUMMARY:Entrega de certificados
URL:https://www.asociacionlatinoamericanadeantropologia.net/congreso2017/in
 dex.php?option=com_jem&view=event&id=1746:entrega-de-certificados
END:VEVENT
BEGIN:VEVENT
UID:event1641@Congreso 2017
DTSTAMP:20260421T034437Z
CATEGORIES:ASAMBLEAS Y REUNIONES
DESCRIPTION:Asamblea Asociación Latinoamerciana de Antropología ALA\nCatego
 ría: ASAMBLEAS Y REUNIONES\nEnlace: https://www.asociacionlatinoamericanad
 eantropologia.net/congreso2017/index.php?option=com_jem&view=event&id=1641
 :asamblea-asociacion-latinoamerciana-de-antropologia-ala\n
DTSTART:20170609T140000Z
DTEND:20170609T160000Z
LOCATION:Auditorio Félix Restrepo\,Universidad Javeriana\,Bogotá\,Colombia
SUMMARY:Asamblea Asociación Latinoamerciana de Antropología ALA
URL:https://www.asociacionlatinoamericanadeantropologia.net/congreso2017/in
 dex.php?option=com_jem&view=event&id=1641:asamblea-asociacion-latinoamerci
 ana-de-antropologia-ala
END:VEVENT
BEGIN:VEVENT
UID:event1642@Congreso 2017
DTSTAMP:20260421T034437Z
CATEGORIES:ASAMBLEAS Y REUNIONES
DESCRIPTION:Asamblea Asociación Colombiana de Antropología ACAN\nCategoría:
  ASAMBLEAS Y REUNIONES\nEnlace: https://www.asociacionlatinoamericanadeant
 ropologia.net/congreso2017/index.php?option=com_jem&view=event&id=1642:asa
 mblea-asociacion-colombiana-de-antropologia-acan\n
DTSTART:20170609T160000Z
DTEND:20170609T180000Z
LOCATION:Auditorio Félix Restrepo\,Universidad Javeriana\,Bogotá\,Colombia
SUMMARY:Asamblea Asociación Colombiana de Antropología ACAN
URL:https://www.asociacionlatinoamericanadeantropologia.net/congreso2017/in
 dex.php?option=com_jem&view=event&id=1642:asamblea-asociacion-colombiana-d
 e-antropologia-acan
END:VEVENT
END:VCALENDAR
