BEGIN:VCALENDAR
VERSION:2.0
PRODID:-//192.99.84.55//NONSGML kigkonsult.se iCalcreator 2.20//
CALSCALE:GREGORIAN
METHOD:PUBLISH
X-WR-TIMEZONE:UTC
BEGIN:VEVENT
UID:event980@Congreso 2017
DTSTAMP:20260421T125726Z
CATEGORIES:10. Violencia\, guerra y transiciones\, Simposio: Etnografias em
  contextos de guerras\, conflitos políticos e pós-guerra. Pensando metodol
 ogi
DESCRIPTION:Operação Produção: Crônica de uma integração imperfeita na cons
 trução social pós-guerra colonial em Moçambique \nCategoría: 10. Violencia
 \, guerra y transiciones\, Simposio: Etnografias em contextos de guerras\,
  conflitos políticos e pós-guerra. Pensando metodologi\nEnlace: https://ww
 w.asociacionlatinoamericanadeantropologia.net/congreso2017/index.php?optio
 n=com_jem&view=event&id=980:operacao-producao-cronica-de-uma-integracao-im
 perfeita-na-construcao-social-pos-guerra-colonial-em-mocambique\n
DTSTART:20170608T140000Z
DTEND:20170608T160000Z
LOCATION:Edificio: 02 Salón: 306\,Universidad Javeriana\,Bogotá
SUMMARY:Operação Produção: Crônica de uma integração imperfeita na construç
 ão social pós-guerra colonial em Moçambique 
URL:https://www.asociacionlatinoamericanadeantropologia.net/congreso2017/in
 dex.php?option=com_jem&view=event&id=980:operacao-producao-cronica-de-uma-
 integracao-imperfeita-na-construcao-social-pos-guerra-colonial-em-mocambiq
 ue
END:VEVENT
END:VCALENDAR
