BEGIN:VCALENDAR
VERSION:2.0
PRODID:-//192.99.84.55//NONSGML kigkonsult.se iCalcreator 2.20//
CALSCALE:GREGORIAN
METHOD:PUBLISH
X-WR-TIMEZONE:UTC
BEGIN:VEVENT
UID:event979@Congreso 2017
DTSTAMP:20260421T125208Z
CATEGORIES:10. Violencia\, guerra y transiciones\, Simposio: Etnografias em
  contextos de guerras\, conflitos políticos e pós-guerra. Pensando metodol
 ogi
DESCRIPTION:A Colômbia: a violência como força produtiva \nCategoría: 10. V
 iolencia\, guerra y transiciones\, Simposio: Etnografias em contextos de g
 uerras\, conflitos políticos e pós-guerra. Pensando metodologi\nEnlace: ht
 tps://www.asociacionlatinoamericanadeantropologia.net/congreso2017/index.p
 hp?option=com_jem&view=event&id=979:a-colombia-a-violencia-como-forca-prod
 utiva\n
DTSTART:20170608T140000Z
DTEND:20170608T160000Z
LOCATION:Edificio: 02 Salón: 306\,Universidad Javeriana\,Bogotá
SUMMARY:A Colômbia: a violência como força produtiva 
URL:https://www.asociacionlatinoamericanadeantropologia.net/congreso2017/in
 dex.php?option=com_jem&view=event&id=979:a-colombia-a-violencia-como-forca
 -produtiva
END:VEVENT
END:VCALENDAR
