BEGIN:VCALENDAR
VERSION:2.0
PRODID:-//192.99.84.55//NONSGML kigkonsult.se iCalcreator 2.20//
CALSCALE:GREGORIAN
METHOD:PUBLISH
X-WR-TIMEZONE:UTC
BEGIN:VEVENT
UID:event977@Congreso 2017
DTSTAMP:20260421T125228Z
CATEGORIES:10. Violencia\, guerra y transiciones\, Simposio: Etnografias em
  contextos de guerras\, conflitos políticos e pós-guerra. Pensando metodol
 ogi
DESCRIPTION:Entre la espada y la pared. Encrucijadas de estar en contextos 
 de violencia y vulnerabilidad \nCategoría: 10. Violencia\, guerra y transi
 ciones\, Simposio: Etnografias em contextos de guerras\, conflitos polític
 os e pós-guerra. Pensando metodologi\nEnlace: https://www.asociacionlatino
 americanadeantropologia.net/congreso2017/index.php?option=com_jem&view=eve
 nt&id=977:entre-la-espada-y-la-pared-encrucijadas-de-estar-en-contextos-de
 -violencia-y-vulnerabilidad\n
DTSTART:20170608T110000Z
DTEND:20170608T130000Z
LOCATION:Edificio: 02 Salón: 306\,Universidad Javeriana\,Bogotá
SUMMARY:Entre la espada y la pared. Encrucijadas de estar en contextos de v
 iolencia y vulnerabilidad 
URL:https://www.asociacionlatinoamericanadeantropologia.net/congreso2017/in
 dex.php?option=com_jem&view=event&id=977:entre-la-espada-y-la-pared-encruc
 ijadas-de-estar-en-contextos-de-violencia-y-vulnerabilidad
END:VEVENT
END:VCALENDAR
