BEGIN:VCALENDAR
VERSION:2.0
PRODID:-//192.99.84.55//NONSGML kigkonsult.se iCalcreator 2.20//
CALSCALE:GREGORIAN
METHOD:PUBLISH
X-WR-TIMEZONE:UTC
BEGIN:VEVENT
UID:event975@Congreso 2017
DTSTAMP:20260421T123558Z
CATEGORIES:10. Violencia\, guerra y transiciones\, Simposio: Etnografias em
  contextos de guerras\, conflitos políticos e pós-guerra. Pensando metodol
 ogi
DESCRIPTION:La estatua de Libertad \nCategoría: 10. Violencia\, guerra y tr
 ansiciones\, Simposio: Etnografias em contextos de guerras\, conflitos pol
 íticos e pós-guerra. Pensando metodologi\nEnlace: https://www.asociacionla
 tinoamericanadeantropologia.net/congreso2017/index.php?option=com_jem&view
 =event&id=975:la-estatua-de-libertad\n
DTSTART:20170608T110000Z
DTEND:20170608T130000Z
LOCATION:Edificio: 02 Salón: 306\,Universidad Javeriana\,Bogotá
SUMMARY:La estatua de Libertad 
URL:https://www.asociacionlatinoamericanadeantropologia.net/congreso2017/in
 dex.php?option=com_jem&view=event&id=975:la-estatua-de-libertad
END:VEVENT
END:VCALENDAR
