BEGIN:VCALENDAR
VERSION:2.0
PRODID:-//192.99.84.55//NONSGML kigkonsult.se iCalcreator 2.20//
CALSCALE:GREGORIAN
METHOD:PUBLISH
X-WR-TIMEZONE:UTC
BEGIN:VEVENT
UID:event971@Congreso 2017
DTSTAMP:20260421T123614Z
CATEGORIES:10. Violencia\, guerra y transiciones\, Simposio: Etnografias em
  contextos de guerras\, conflitos políticos e pós-guerra. Pensando metodol
 ogi
DESCRIPTION:Narrativas sobre violência no contexto da guerrilha Mau Mau \nC
 ategoría: 10. Violencia\, guerra y transiciones\, Simposio: Etnografias em
  contextos de guerras\, conflitos políticos e pós-guerra. Pensando metodol
 ogi\nEnlace: https://www.asociacionlatinoamericanadeantropologia.net/congr
 eso2017/index.php?option=com_jem&view=event&id=971:narrativas-sobre-violen
 cia-no-contexto-da-guerrilha-mau-mau\n
DTSTART:20170608T090000Z
DTEND:20170608T110000Z
LOCATION:Edificio: 02 Salón: 306\,Universidad Javeriana\,Bogotá
SUMMARY:Narrativas sobre violência no contexto da guerrilha Mau Mau 
URL:https://www.asociacionlatinoamericanadeantropologia.net/congreso2017/in
 dex.php?option=com_jem&view=event&id=971:narrativas-sobre-violencia-no-con
 texto-da-guerrilha-mau-mau
END:VEVENT
END:VCALENDAR
