BEGIN:VCALENDAR
VERSION:2.0
PRODID:-//192.99.84.55//NONSGML kigkonsult.se iCalcreator 2.20//
CALSCALE:GREGORIAN
METHOD:PUBLISH
X-WR-TIMEZONE:UTC
BEGIN:VEVENT
UID:event969@Congreso 2017
DTSTAMP:20260421T072311Z
CATEGORIES:10. Violencia\, guerra y transiciones\, Simposio: Etnografías de
  la “normalización”: Dispositivos territoriales transicionales y zonas de 
 co
DESCRIPTION:Desde las veredas vecinas: La ZVTN el Oso en Planadas\, Tolima 
 \nCategoría: 10. Violencia\, guerra y transiciones\, Simposio: Etnografías
  de la “normalización”: Dispositivos territoriales transicionales y zonas 
 de co\nEnlace: https://www.asociacionlatinoamericanadeantropologia.net/con
 greso2017/index.php?option=com_jem&view=event&id=969:desde-las-veredas-vec
 inas-la-zvtn-el-oso-en-planadas-tolima\n
DTSTART:20170609T110000Z
DTEND:20170609T130000Z
LOCATION:Edificio: 02 Salón: 401\,Universidad Javeriana\,Bogotá
SUMMARY:Desde las veredas vecinas: La ZVTN el Oso en Planadas\, Tolima 
URL:https://www.asociacionlatinoamericanadeantropologia.net/congreso2017/in
 dex.php?option=com_jem&view=event&id=969:desde-las-veredas-vecinas-la-zvtn
 -el-oso-en-planadas-tolima
END:VEVENT
END:VCALENDAR
