BEGIN:VCALENDAR
VERSION:2.0
PRODID:-//192.99.84.55//NONSGML kigkonsult.se iCalcreator 2.20//
CALSCALE:GREGORIAN
METHOD:PUBLISH
X-WR-TIMEZONE:UTC
BEGIN:VEVENT
UID:event968@Congreso 2017
DTSTAMP:20260421T072225Z
CATEGORIES:10. Violencia\, guerra y transiciones\, Simposio: Etnografías de
  la “normalización”: Dispositivos territoriales transicionales y zonas de 
 co
DESCRIPTION:La ZVTN de Buenos Aires\, Cauca: un enfoque de paz desde los te
 rritorios \nCategoría: 10. Violencia\, guerra y transiciones\, Simposio: E
 tnografías de la “normalización”: Dispositivos territoriales transicionale
 s y zonas de co\nEnlace: https://www.asociacionlatinoamericanadeantropolog
 ia.net/congreso2017/index.php?option=com_jem&view=event&id=968:la-zvtn-de-
 buenos-aires-cauca-un-enfoque-de-paz-desde-los-territorios\n
DTSTART:20170609T110000Z
DTEND:20170609T130000Z
LOCATION:Edificio: 02 Salón: 401\,Universidad Javeriana\,Bogotá
SUMMARY:La ZVTN de Buenos Aires\, Cauca: un enfoque de paz desde los territ
 orios 
URL:https://www.asociacionlatinoamericanadeantropologia.net/congreso2017/in
 dex.php?option=com_jem&view=event&id=968:la-zvtn-de-buenos-aires-cauca-un-
 enfoque-de-paz-desde-los-territorios
END:VEVENT
END:VCALENDAR
