BEGIN:VCALENDAR
VERSION:2.0
PRODID:-//192.99.84.55//NONSGML kigkonsult.se iCalcreator 2.20//
CALSCALE:GREGORIAN
METHOD:PUBLISH
X-WR-TIMEZONE:UTC
BEGIN:VEVENT
UID:event896@Congreso 2017
DTSTAMP:20260421T052705Z
CATEGORIES:10. Violencia\, guerra y transiciones\, Simposio: Antropología d
 e los militares en América Latina: problemas\, límites y perspectivas
DESCRIPTION:A Amazônia no pensamento militar brasileiro \nCategoría: 10. Vi
 olencia\, guerra y transiciones\, Simposio: Antropología de los militares 
 en América Latina: problemas\, límites y perspectivas\nEnlace: https://www
 .asociacionlatinoamericanadeantropologia.net/congreso2017/index.php?option
 =com_jem&view=event&id=896:a-amazonia-no-pensamento-militar-brasileiro\n
DTSTART:20170608T110000Z
DTEND:20170608T130000Z
LOCATION:Edificio: 02 Salón: 307\,Universidad Javeriana\,Salón: 307 Bogotá
SUMMARY:A Amazônia no pensamento militar brasileiro 
URL:https://www.asociacionlatinoamericanadeantropologia.net/congreso2017/in
 dex.php?option=com_jem&view=event&id=896:a-amazonia-no-pensamento-militar-
 brasileiro
END:VEVENT
END:VCALENDAR
