BEGIN:VCALENDAR
VERSION:2.0
PRODID:-//192.99.84.55//NONSGML kigkonsult.se iCalcreator 2.20//
CALSCALE:GREGORIAN
METHOD:PUBLISH
X-WR-TIMEZONE:UTC
BEGIN:VEVENT
UID:event892@Congreso 2017
DTSTAMP:20260421T071636Z
CATEGORIES:10. Violencia\, guerra y transiciones\, Simposio: Antropología d
 e los militares en América Latina: problemas\, límites y perspectivas
DESCRIPTION:Narrativas acerca de las nuevas configuraciones profesionales y
  de género en la Fuerza Aérea de Brasil. \nCategoría: 10. Violencia\, guer
 ra y transiciones\, Simposio: Antropología de los militares en América Lat
 ina: problemas\, límites y perspectivas\nEnlace: https://www.asociacionlat
 inoamericanadeantropologia.net/congreso2017/index.php?option=com_jem&view=
 event&id=892:narrativas-acerca-de-las-nuevas-configuraciones-profesionales
 -y-de-genero-en-la-fuerza-aerea-de-brasil\n
DTSTART:20170608T090000Z
DTEND:20170608T110000Z
LOCATION:Edificio: 02 Salón: 307\,Universidad Javeriana\,Salón: 307 Bogotá
SUMMARY:Narrativas acerca de las nuevas configuraciones profesionales y de 
 género en la Fuerza Aérea de Brasil. 
URL:https://www.asociacionlatinoamericanadeantropologia.net/congreso2017/in
 dex.php?option=com_jem&view=event&id=892:narrativas-acerca-de-las-nuevas-c
 onfiguraciones-profesionales-y-de-genero-en-la-fuerza-aerea-de-brasil
END:VEVENT
END:VCALENDAR
