BEGIN:VCALENDAR
VERSION:2.0
PRODID:-//192.99.84.55//NONSGML kigkonsult.se iCalcreator 2.20//
CALSCALE:GREGORIAN
METHOD:PUBLISH
X-WR-TIMEZONE:UTC
BEGIN:VEVENT
UID:event889@Congreso 2017
DTSTAMP:20260421T071635Z
CATEGORIES:9. Movimientos sociales\, Simposio: Pueblos indígenas\, política
 s públicas\, procesos de expansión del capital. Respuestas y est
DESCRIPTION:La indigenización de la política subnacional: Las protestas del
  Consejo de Naciones Peregrinas del Señor de Quyllurit’i (Cusco\, Perú).  
                 \nCategoría: 9. Movimientos sociales\, Simposio: Pueblos i
 ndígenas\, políticas públicas\, procesos de expansión del capital. Respues
 tas y est\nEnlace: https://www.asociacionlatinoamericanadeantropologia.net
 /congreso2017/index.php?option=com_jem&view=event&id=889:la-indigenizacion
 -de-la-politica-subnacional-las-protestas-del-consejo-de-naciones-peregrin
 as-del-senor-de-quyllurit-i-cusco-peru\n
DTSTART:20170608T090000Z
DTEND:20170608T160000Z
LOCATION:Edificio: 02 Salón: 404\,Universidad Javeriana\,Bogotá
SUMMARY:La indigenización de la política subnacional: Las protestas del Con
 sejo de Naciones Peregrinas del Señor de Quyllurit’i (Cusco\, Perú).      
             
URL:https://www.asociacionlatinoamericanadeantropologia.net/congreso2017/in
 dex.php?option=com_jem&view=event&id=889:la-indigenizacion-de-la-politica-
 subnacional-las-protestas-del-consejo-de-naciones-peregrinas-del-senor-de-
 quyllurit-i-cusco-peru
END:VEVENT
END:VCALENDAR
