BEGIN:VCALENDAR
VERSION:2.0
PRODID:-//192.99.84.55//NONSGML kigkonsult.se iCalcreator 2.20//
CALSCALE:GREGORIAN
METHOD:PUBLISH
X-WR-TIMEZONE:UTC
BEGIN:VEVENT
UID:event887@Congreso 2017
DTSTAMP:20260421T071635Z
CATEGORIES:9. Movimientos sociales\, Simposio: Pueblos indígenas\, política
 s públicas\, procesos de expansión del capital. Respuestas y est
DESCRIPTION:'Estar en lucha'. Campos de fuerza y organizaciones indígenas. 
   \nCategoría: 9. Movimientos sociales\, Simposio: Pueblos indígenas\, pol
 íticas públicas\, procesos de expansión del capital. Respuestas y est\nEnl
 ace: https://www.asociacionlatinoamericanadeantropologia.net/congreso2017/
 index.php?option=com_jem&view=event&id=887:estar-en-lucha-campos-de-fuerza
 -y-organizaciones-indigenas\n
DTSTART:20170608T090000Z
DTEND:20170608T160000Z
LOCATION:Edificio: 02 Salón: 404\,Universidad Javeriana\,Bogotá
SUMMARY:'Estar en lucha'. Campos de fuerza y organizaciones indígenas.   
URL:https://www.asociacionlatinoamericanadeantropologia.net/congreso2017/in
 dex.php?option=com_jem&view=event&id=887:estar-en-lucha-campos-de-fuerza-y
 -organizaciones-indigenas
END:VEVENT
END:VCALENDAR
