BEGIN:VCALENDAR
VERSION:2.0
PRODID:-//192.99.84.55//NONSGML kigkonsult.se iCalcreator 2.20//
CALSCALE:GREGORIAN
METHOD:PUBLISH
X-WR-TIMEZONE:UTC
BEGIN:VEVENT
UID:event886@Congreso 2017
DTSTAMP:20260421T071637Z
CATEGORIES:9. Movimientos sociales\, Simposio: Pueblos indígenas\, política
 s públicas\, procesos de expansión del capital. Respuestas y est
DESCRIPTION:Conflitos e mobilizações indígenas em torno das terras da Reser
 va Caramuru-Paraguassu. Pataxó Hãhãhãi\, sul da Bahia \nCategoría: 9. Movi
 mientos sociales\, Simposio: Pueblos indígenas\, políticas públicas\, proc
 esos de expansión del capital. Respuestas y est\nEnlace: https://www.asoci
 acionlatinoamericanadeantropologia.net/congreso2017/index.php?option=com_j
 em&view=event&id=886:conflitos-e-mobilizacoes-indigenas-em-torno-das-terra
 s-da-reserva-caramuru-paraguassu-pataxo-hahahai-sul-da-bahia\n
DTSTART:20170608T090000Z
DTEND:20170608T160000Z
LOCATION:Edificio: 02 Salón: 404\,Universidad Javeriana\,Bogotá
SUMMARY:Conflitos e mobilizações indígenas em torno das terras da Reserva C
 aramuru-Paraguassu. Pataxó Hãhãhãi\, sul da Bahia 
URL:https://www.asociacionlatinoamericanadeantropologia.net/congreso2017/in
 dex.php?option=com_jem&view=event&id=886:conflitos-e-mobilizacoes-indigena
 s-em-torno-das-terras-da-reserva-caramuru-paraguassu-pataxo-hahahai-sul-da
 -bahia
END:VEVENT
END:VCALENDAR
