BEGIN:VCALENDAR
VERSION:2.0
PRODID:-//192.99.84.55//NONSGML kigkonsult.se iCalcreator 2.20//
CALSCALE:GREGORIAN
METHOD:PUBLISH
X-WR-TIMEZONE:UTC
BEGIN:VEVENT
UID:event882@Congreso 2017
DTSTAMP:20260421T071519Z
CATEGORIES:9. Movimientos sociales\, Simposio: Pueblos indígenas\, política
 s públicas\, procesos de expansión del capital. Respuestas y est
DESCRIPTION:Terra Indígena Aldeia Lagoa Encantada e Reserva Extrativista do
  Batoque: conflitos e estratégias frente à expansão do turismo empresarial
  no litoral leste do Ceará\, Brasil.    \nCategoría: 9. Movimientos social
 es\, Simposio: Pueblos indígenas\, políticas públicas\, procesos de expans
 ión del capital. Respuestas y est\nEnlace: https://www.asociacionlatinoame
 ricanadeantropologia.net/congreso2017/index.php?option=com_jem&view=event&
 id=882:terra-indigena-aldeia-lagoa-encantada-e-reserva-extrativista-do-bat
 oque-conflitos-e-estrategias-frente-a-expansao-do-turismo-empresarial-no-l
 itoral-leste-do-ceara-brasil\n
DTSTART:20170608T090000Z
DTEND:20170608T160000Z
LOCATION:Edificio: 02 Salón: 404\,Universidad Javeriana\,Bogotá
SUMMARY:Terra Indígena Aldeia Lagoa Encantada e Reserva Extrativista do Bat
 oque: conflitos e estratégias frente à expansão do turismo empresarial no 
 litoral leste do Ceará\, Brasil.    
URL:https://www.asociacionlatinoamericanadeantropologia.net/congreso2017/in
 dex.php?option=com_jem&view=event&id=882:terra-indigena-aldeia-lagoa-encan
 tada-e-reserva-extrativista-do-batoque-conflitos-e-estrategias-frente-a-ex
 pansao-do-turismo-empresarial-no-litoral-leste-do-ceara-brasil
END:VEVENT
END:VCALENDAR
