BEGIN:VCALENDAR
VERSION:2.0
PRODID:-//192.99.84.55//NONSGML kigkonsult.se iCalcreator 2.20//
CALSCALE:GREGORIAN
METHOD:PUBLISH
X-WR-TIMEZONE:UTC
BEGIN:VEVENT
UID:event87@Congreso 2017
DTSTAMP:20260421T054444Z
CATEGORIES:1. Geopolíticas del conocimiento y antropologías del sur\,  Simp
 osio: promovido por el comité académico del congreso. Antropologías del Ca
 ribe: entre sincretis
DESCRIPTION:Autonomía\, Integración y Derechos: Una mirada al Caribe Surocc
 idental\nCategoría: 1. Geopolíticas del conocimiento y antropologías del s
 ur\,  Simposio: promovido por el comité académico del congreso. Antropolog
 ías del Caribe: entre sincretis\nEnlace: https://www.asociacionlatinoameri
 canadeantropologia.net/congreso2017/index.php?option=com_jem&view=event&id
 =87:autonomia-integracion-y-derechos-una-mirada-al-caribe-suroccidental\n
DTSTART:20170607T140000Z
DTEND:20170607T160000Z
LOCATION:Edificio: 02 Salón: 307\,Universidad Javeriana\,Salón: 307 Bogotá
SUMMARY:Autonomía\, Integración y Derechos: Una mirada al Caribe Surocciden
 tal
URL:https://www.asociacionlatinoamericanadeantropologia.net/congreso2017/in
 dex.php?option=com_jem&view=event&id=87:autonomia-integracion-y-derechos-u
 na-mirada-al-caribe-suroccidental
END:VEVENT
END:VCALENDAR
