BEGIN:VCALENDAR
VERSION:2.0
PRODID:-//192.99.84.55//NONSGML kigkonsult.se iCalcreator 2.20//
CALSCALE:GREGORIAN
METHOD:PUBLISH
X-WR-TIMEZONE:UTC
BEGIN:VEVENT
UID:event867@Congreso 2017
DTSTAMP:20260421T073803Z
CATEGORIES:9. Movimientos sociales\, Simposio: promovido por el comité acad
 émico del congreso. Antropología\, activismo y movimientos soci
DESCRIPTION:Antropologías renegadas y antropología perdidas: Una reflexión 
 sobre formas marginadas de hacer antropología en Colombia\nCategoría: 9. M
 ovimientos sociales\, Simposio: promovido por el comité académico del cong
 reso. Antropología\, activismo y movimientos soci\nEnlace: https://www.aso
 ciacionlatinoamericanadeantropologia.net/congreso2017/index.php?option=com
 _jem&view=event&id=867:antropologias-renegadas-y-antropologia-perdidas-una
 -reflexion-sobre-formas-marginadas-de-hacer-antropologia-en-colombia\n
DTSTART:20170608T090000Z
DTEND:20170608T160000Z
LOCATION:Edificio: 02 Salón: 401\,Universidad Javeriana\,Bogotá
SUMMARY:Antropologías renegadas y antropología perdidas: Una reflexión sobr
 e formas marginadas de hacer antropología en Colombia
URL:https://www.asociacionlatinoamericanadeantropologia.net/congreso2017/in
 dex.php?option=com_jem&view=event&id=867:antropologias-renegadas-y-antropo
 logia-perdidas-una-reflexion-sobre-formas-marginadas-de-hacer-antropologia
 -en-colombia
END:VEVENT
END:VCALENDAR
