BEGIN:VCALENDAR
VERSION:2.0
PRODID:-//192.99.84.55//NONSGML kigkonsult.se iCalcreator 2.20//
CALSCALE:GREGORIAN
METHOD:PUBLISH
X-WR-TIMEZONE:UTC
BEGIN:VEVENT
UID:event865@Congreso 2017
DTSTAMP:20260421T073749Z
CATEGORIES:9. Movimientos sociales\, Simposio: promovido por el comité acad
 émico del congreso. Antropología\, activismo y movimientos soci
DESCRIPTION:Apuntes sobre y desde el movimiento antiprohibicionista en Colo
 mbia\nCategoría: 9. Movimientos sociales\, Simposio: promovido por el comi
 té académico del congreso. Antropología\, activismo y movimientos soci\nEn
 lace: https://www.asociacionlatinoamericanadeantropologia.net/congreso2017
 /index.php?option=com_jem&view=event&id=865:apuntes-sobre-y-desde-el-movim
 iento-antiprohibicionista-en-colombia\n
DTSTART:20170608T090000Z
DTEND:20170608T160000Z
LOCATION:Edificio: 02 Salón: 401\,Universidad Javeriana\,Bogotá
SUMMARY:Apuntes sobre y desde el movimiento antiprohibicionista en Colombia
URL:https://www.asociacionlatinoamericanadeantropologia.net/congreso2017/in
 dex.php?option=com_jem&view=event&id=865:apuntes-sobre-y-desde-el-movimien
 to-antiprohibicionista-en-colombia
END:VEVENT
END:VCALENDAR
