BEGIN:VCALENDAR
VERSION:2.0
PRODID:-//192.99.84.55//NONSGML kigkonsult.se iCalcreator 2.20//
CALSCALE:GREGORIAN
METHOD:PUBLISH
X-WR-TIMEZONE:UTC
BEGIN:VEVENT
UID:event862@Congreso 2017
DTSTAMP:20260421T073628Z
CATEGORIES:9. Movimientos sociales\, Simposio: promovido por el comité acad
 émico del congreso. Antropología\, activismo y movimientos soci
DESCRIPTION:Narrativas de continuidad de la violencia contra las mujeres en
  contextos de violencia colectiva: El caso del estado de Guerrero\, México
 \nCategoría: 9. Movimientos sociales\, Simposio: promovido por el comité a
 cadémico del congreso. Antropología\, activismo y movimientos soci\nEnlace
 : https://www.asociacionlatinoamericanadeantropologia.net/congreso2017/ind
 ex.php?option=com_jem&view=event&id=862:narrativas-de-continuidad-de-la-vi
 olencia-contra-las-mujeres-en-contextos-de-violencia-colectiva-el-caso-del
 -estado-de-guerrero-mexico\n
DTSTART:20170608T090000Z
DTEND:20170608T160000Z
LOCATION:Edificio: 02 Salón: 401\,Universidad Javeriana\,Bogotá
SUMMARY:Narrativas de continuidad de la violencia contra las mujeres en con
 textos de violencia colectiva: El caso del estado de Guerrero\, México
URL:https://www.asociacionlatinoamericanadeantropologia.net/congreso2017/in
 dex.php?option=com_jem&view=event&id=862:narrativas-de-continuidad-de-la-v
 iolencia-contra-las-mujeres-en-contextos-de-violencia-colectiva-el-caso-de
 l-estado-de-guerrero-mexico
END:VEVENT
END:VCALENDAR
