BEGIN:VCALENDAR
VERSION:2.0
PRODID:-//192.99.84.55//NONSGML kigkonsult.se iCalcreator 2.20//
CALSCALE:GREGORIAN
METHOD:PUBLISH
X-WR-TIMEZONE:UTC
BEGIN:VEVENT
UID:event656@Congreso 2017
DTSTAMP:20260421T071516Z
CATEGORIES:7. Estado\, nación y políticas públicas\, Simposio: Aproximacion
 es antropológicas a los mecanismos de dominación estatal
DESCRIPTION:Etnografía del Estado: entre réplicas\, fractales y fetiches\nC
 ategoría: 7. Estado\, nación y políticas públicas\, Simposio: Aproximacion
 es antropológicas a los mecanismos de dominación estatal\nEnlace: https://
 www.asociacionlatinoamericanadeantropologia.net/congreso2017/index.php?opt
 ion=com_jem&view=event&id=656:etnografia-del-estado-entre-replicas-fractal
 es-y-fetiches\n
DTSTART:20170606T140000Z
DTEND:20170607T110000Z
LOCATION:Edificio: 67 Salón: 410\,Universidad Javeriana\,Bogotá
SUMMARY:Etnografía del Estado: entre réplicas\, fractales y fetiches
URL:https://www.asociacionlatinoamericanadeantropologia.net/congreso2017/in
 dex.php?option=com_jem&view=event&id=656:etnografia-del-estado-entre-repli
 cas-fractales-y-fetiches
END:VEVENT
END:VCALENDAR
