BEGIN:VCALENDAR
VERSION:2.0
PRODID:-//192.99.84.55//NONSGML kigkonsult.se iCalcreator 2.20//
CALSCALE:GREGORIAN
METHOD:PUBLISH
X-WR-TIMEZONE:UTC
BEGIN:VEVENT
UID:event654@Congreso 2017
DTSTAMP:20260421T071541Z
CATEGORIES:7. Estado\, nación y políticas públicas\, Simposio: Aproximacion
 es antropológicas a los mecanismos de dominación estatal
DESCRIPTION:Las Artes de Gobernar en México. Problemas de escala e intensid
 ad en la producción necropolítica y el Estado de Derecho. \nCategoría: 7. 
 Estado\, nación y políticas públicas\, Simposio: Aproximaciones antropológ
 icas a los mecanismos de dominación estatal\nEnlace: https://www.asociacio
 nlatinoamericanadeantropologia.net/congreso2017/index.php?option=com_jem&v
 iew=event&id=654:las-artes-de-gobernar-en-mexico-problemas-de-escala-e-int
 ensidad-en-la-produccion-necropolitica-y-el-estado-de-derecho\n
DTSTART:20170606T140000Z
DTEND:20170607T110000Z
LOCATION:Edificio: 67 Salón: 410\,Universidad Javeriana\,Bogotá
SUMMARY:Las Artes de Gobernar en México. Problemas de escala e intensidad e
 n la producción necropolítica y el Estado de Derecho. 
URL:https://www.asociacionlatinoamericanadeantropologia.net/congreso2017/in
 dex.php?option=com_jem&view=event&id=654:las-artes-de-gobernar-en-mexico-p
 roblemas-de-escala-e-intensidad-en-la-produccion-necropolitica-y-el-estado
 -de-derecho
END:VEVENT
END:VCALENDAR
