BEGIN:VCALENDAR
VERSION:2.0
PRODID:-//192.99.84.55//NONSGML kigkonsult.se iCalcreator 2.20//
CALSCALE:GREGORIAN
METHOD:PUBLISH
X-WR-TIMEZONE:UTC
BEGIN:VEVENT
UID:event647@Congreso 2017
DTSTAMP:20260421T071648Z
CATEGORIES:7. Estado\, nación y políticas públicas\, Simposio: Aproximacion
 es antropológicas a los mecanismos de dominación estatal
DESCRIPTION:Democracia participativa en Venezuela frente a las resistencias
  del Estado Burgues \nCategoría: 7. Estado\, nación y políticas públicas\,
  Simposio: Aproximaciones antropológicas a los mecanismos de dominación es
 tatal\nEnlace: https://www.asociacionlatinoamericanadeantropologia.net/con
 greso2017/index.php?option=com_jem&view=event&id=647:democracia-participat
 iva-en-venezuela-frente-a-las-resistencias-del-estado-burgues\n
DTSTART:20170606T140000Z
DTEND:20170607T110000Z
LOCATION:Edificio: 67 Salón: 410\,Universidad Javeriana\,Bogotá
SUMMARY:Democracia participativa en Venezuela frente a las resistencias del
  Estado Burgues 
URL:https://www.asociacionlatinoamericanadeantropologia.net/congreso2017/in
 dex.php?option=com_jem&view=event&id=647:democracia-participativa-en-venez
 uela-frente-a-las-resistencias-del-estado-burgues
END:VEVENT
END:VCALENDAR
