BEGIN:VCALENDAR
VERSION:2.0
PRODID:-//192.99.84.55//NONSGML kigkonsult.se iCalcreator 2.20//
CALSCALE:GREGORIAN
METHOD:PUBLISH
X-WR-TIMEZONE:UTC
BEGIN:VEVENT
UID:event620@Congreso 2017
DTSTAMP:20260421T071516Z
CATEGORIES:7. Estado\, nación y políticas públicas\, Simposio: Alimentación
 \, políticas públicas y antropología
DESCRIPTION:Mercados\, tianguis y supermercados: motivaciones y preferencia
 s del consumidor del centro de México\nCategoría: 7. Estado\, nación y pol
 íticas públicas\, Simposio: Alimentación\, políticas públicas y antropolog
 ía\nEnlace: https://www.asociacionlatinoamericanadeantropologia.net/congre
 so2017/index.php?option=com_jem&view=event&id=620:mercados-tianguis-y-supe
 rmercados-motivaciones-y-preferencias-del-consumidor-del-centro-de-mexico
 \n
DTSTART:20170607T140000Z
DTEND:20170607T160000Z
LOCATION:Edificio: 67 Salón: 410\,Universidad Javeriana\,Bogotá
SUMMARY:Mercados\, tianguis y supermercados: motivaciones y preferencias de
 l consumidor del centro de México
URL:https://www.asociacionlatinoamericanadeantropologia.net/congreso2017/in
 dex.php?option=com_jem&view=event&id=620:mercados-tianguis-y-supermercados
 -motivaciones-y-preferencias-del-consumidor-del-centro-de-mexico
END:VEVENT
END:VCALENDAR
