BEGIN:VCALENDAR
VERSION:2.0
PRODID:-//192.99.84.55//NONSGML kigkonsult.se iCalcreator 2.20//
CALSCALE:GREGORIAN
METHOD:PUBLISH
X-WR-TIMEZONE:UTC
BEGIN:VEVENT
UID:event6@Congreso 2017
DTSTAMP:20260421T055444Z
CATEGORIES:1. Geopolíticas del conocimiento y antropologías del sur\,  Simp
 osio: promovido por el comité académico del congreso. Antropologías del Ca
 ribe: entre sincretis
DESCRIPTION:Descifrando el “enigma” del Caribe\nCategoría: 1. Geopolíticas 
 del conocimiento y antropologías del sur\,  Simposio: promovido por el com
 ité académico del congreso. Antropologías del Caribe: entre sincretis\nEnl
 ace: https://www.asociacionlatinoamericanadeantropologia.net/congreso2017/
 index.php?option=com_jem&view=event&id=6:descifrando-el-enigma-del-caribe
 \n
DTSTART:20170607T110000Z
DTEND:20170607T130000Z
LOCATION:Edificio: 02 Salón: 307\,Universidad Javeriana\,Salón: 307 Bogotá
SUMMARY:Descifrando el “enigma” del Caribe
URL:https://www.asociacionlatinoamericanadeantropologia.net/congreso2017/in
 dex.php?option=com_jem&view=event&id=6:descifrando-el-enigma-del-caribe
END:VEVENT
END:VCALENDAR
