BEGIN:VCALENDAR
VERSION:2.0
PRODID:-//192.99.84.55//NONSGML kigkonsult.se iCalcreator 2.20//
CALSCALE:GREGORIAN
METHOD:PUBLISH
X-WR-TIMEZONE:UTC
BEGIN:VEVENT
UID:event57@Congreso 2017
DTSTAMP:20260421T054437Z
CATEGORIES:1. Geopolíticas del conocimiento y antropologías del sur\,  Simp
 osio: promovido por el comité académico del congreso. Antropologías del Ca
 ribe: entre sincretis
DESCRIPTION:Marítimidades del Caribe colombiano \nCategoría: 1. Geopolítica
 s del conocimiento y antropologías del sur\,  Simposio: promovido por el c
 omité académico del congreso. Antropologías del Caribe: entre sincretis\nE
 nlace: https://www.asociacionlatinoamericanadeantropologia.net/congreso201
 7/index.php?option=com_jem&view=event&id=57:maritimidades-del-caribe-colom
 biano\n
DTSTART:20170607T110000Z
DTEND:20170607T130000Z
LOCATION:Edificio: 02 Salón: 307\,Universidad Javeriana\,Salón: 307 Bogotá
SUMMARY:Marítimidades del Caribe colombiano 
URL:https://www.asociacionlatinoamericanadeantropologia.net/congreso2017/in
 dex.php?option=com_jem&view=event&id=57:maritimidades-del-caribe-colombian
 o
END:VEVENT
END:VCALENDAR
