BEGIN:VCALENDAR
VERSION:2.0
PRODID:-//192.99.84.55//NONSGML kigkonsult.se iCalcreator 2.20//
CALSCALE:GREGORIAN
METHOD:PUBLISH
X-WR-TIMEZONE:UTC
BEGIN:VEVENT
UID:event54@Congreso 2017
DTSTAMP:20260421T071632Z
CATEGORIES:1. Geopolíticas del conocimiento y antropologías del sur\,  Simp
 osio: promovido por el comité académico del congreso. Antropologías del Ca
 ribe: entre sincretis
DESCRIPTION:El papel de los bateyes en los procesos culturales en Cuba y el
  Caribe. Algunas consideraciones histórico-antropológicas.\nCategoría: 1. 
 Geopolíticas del conocimiento y antropologías del sur\,  Simposio: promovi
 do por el comité académico del congreso. Antropologías del Caribe: entre s
 incretis\nEnlace: https://www.asociacionlatinoamericanadeantropologia.net/
 congreso2017/index.php?option=com_jem&view=event&id=54:el-papel-de-los-bat
 eyes-en-los-procesos-culturales-en-cuba-y-el-caribe-algunas-consideracione
 s-historico-antropologicas\n
DTSTART:20170607T110000Z
DTEND:20170607T130000Z
LOCATION:Edificio: 02 Salón: 307\,Universidad Javeriana\,Salón: 307 Bogotá
SUMMARY:El papel de los bateyes en los procesos culturales en Cuba y el Car
 ibe. Algunas consideraciones histórico-antropológicas.
URL:https://www.asociacionlatinoamericanadeantropologia.net/congreso2017/in
 dex.php?option=com_jem&view=event&id=54:el-papel-de-los-bateyes-en-los-pro
 cesos-culturales-en-cuba-y-el-caribe-algunas-consideraciones-historico-ant
 ropologicas
END:VEVENT
END:VCALENDAR
