BEGIN:VCALENDAR
VERSION:2.0
PRODID:-//192.99.84.55//NONSGML kigkonsult.se iCalcreator 2.20//
CALSCALE:GREGORIAN
METHOD:PUBLISH
X-WR-TIMEZONE:UTC
BEGIN:VEVENT
UID:event536@Congreso 2017
DTSTAMP:20260421T073804Z
CATEGORIES:6. Extractivismo\, tierra y conflictos socioambientales\, Simpos
 io: promovido por el comité académico del congreso. Extractivismo: derecho
 s\, conflictos y resi
DESCRIPTION:De la lucha contra el extractivismo a la construcción de autono
 mía y gobiernos comunitarios a nivel regional. El caso del Movimiento en D
 efensa de la Vida y el Territorio (Modevite) en el estado de Chiapas\, Méx
 ico (2011 – 2016)\nCategoría: 6. Extractivismo\, tierra y conflictos socio
 ambientales\, Simposio: promovido por el comité académico del congreso. Ex
 tractivismo: derechos\, conflictos y resi\nEnlace: https://www.asociacionl
 atinoamericanadeantropologia.net/congreso2017/index.php?option=com_jem&vie
 w=event&id=536:de-la-lucha-contra-el-extractivismo-a-la-construccion-de-au
 tonomia-y-gobiernos-comunitarios-a-nivel-regional-el-caso-del-movimiento-e
 n-defensa-de-la-vida-y-el-territorio-modevite-en-el-estado-de-chiapas-mexi
 co-2011-2016\n
DTSTART:20170607T110000Z
DTEND:20170607T130000Z
LOCATION:Edificio: 02 Salón: 401\,Universidad Javeriana\,Bogotá
SUMMARY:De la lucha contra el extractivismo a la construcción de autonomía 
 y gobiernos comunitarios a nivel regional. El caso del Movimiento en Defen
 sa de la Vida y el Territorio (Modevite) en el estado de Chiapas\, México 
 (2011 – 2016)
URL:https://www.asociacionlatinoamericanadeantropologia.net/congreso2017/in
 dex.php?option=com_jem&view=event&id=536:de-la-lucha-contra-el-extractivis
 mo-a-la-construccion-de-autonomia-y-gobiernos-comunitarios-a-nivel-regiona
 l-el-caso-del-movimiento-en-defensa-de-la-vida-y-el-territorio-modevite-en
 -el-estado-de-chiapas-mexico-2011-2016
END:VEVENT
END:VCALENDAR
