BEGIN:VCALENDAR
VERSION:2.0
PRODID:-//192.99.84.55//NONSGML kigkonsult.se iCalcreator 2.20//
CALSCALE:GREGORIAN
METHOD:PUBLISH
X-WR-TIMEZONE:UTC
BEGIN:VEVENT
UID:event534@Congreso 2017
DTSTAMP:20260421T074157Z
CATEGORIES:6. Extractivismo\, tierra y conflictos socioambientales\, Simpos
 io: promovido por el comité académico del congreso. Extractivismo: derecho
 s\, conflictos y resi
DESCRIPTION:Borrando fronteras con la lucha anti-minera: Tribunal Permanent
 e de los Pueblos y  la sesión sobre la industria minera canadiense en Amér
 ica Latina\nCategoría: 6. Extractivismo\, tierra y conflictos socioambient
 ales\, Simposio: promovido por el comité académico del congreso. Extractiv
 ismo: derechos\, conflictos y resi\nEnlace: https://www.asociacionlatinoam
 ericanadeantropologia.net/congreso2017/index.php?option=com_jem&view=event
 &id=534:borrando-fronteras-con-la-lucha-anti-minera-tribunal-permanente-de
 -los-pueblos-y-la-sesion-sobre-la-industria-minera-canadiense-en-america-l
 atina\n
DTSTART:20170607T110000Z
DTEND:20170607T130000Z
LOCATION:Edificio: 02 Salón: 401\,Universidad Javeriana\,Bogotá
SUMMARY:Borrando fronteras con la lucha anti-minera: Tribunal Permanente de
  los Pueblos y  la sesión sobre la industria minera canadiense en América 
 Latina
URL:https://www.asociacionlatinoamericanadeantropologia.net/congreso2017/in
 dex.php?option=com_jem&view=event&id=534:borrando-fronteras-con-la-lucha-a
 nti-minera-tribunal-permanente-de-los-pueblos-y-la-sesion-sobre-la-industr
 ia-minera-canadiense-en-america-latina
END:VEVENT
END:VCALENDAR
