BEGIN:VCALENDAR
VERSION:2.0
PRODID:-//192.99.84.55//NONSGML kigkonsult.se iCalcreator 2.20//
CALSCALE:GREGORIAN
METHOD:PUBLISH
X-WR-TIMEZONE:UTC
BEGIN:VEVENT
UID:event533@Congreso 2017
DTSTAMP:20260421T072358Z
CATEGORIES:6. Extractivismo\, tierra y conflictos socioambientales\, Simpos
 io: promovido por el comité académico del congreso. Extractivismo: derecho
 s\, conflictos y resi
DESCRIPTION:Género\, minería y territorio: una perspectiva comparada entre 
 Chile y Colombia\nCategoría: 6. Extractivismo\, tierra y conflictos socioa
 mbientales\, Simposio: promovido por el comité académico del congreso. Ext
 ractivismo: derechos\, conflictos y resi\nEnlace: https://www.asociacionla
 tinoamericanadeantropologia.net/congreso2017/index.php?option=com_jem&view
 =event&id=533:genero-mineria-y-territorio-una-perspectiva-comparada-entre-
 chile-y-colombia\n
DTSTART:20170607T110000Z
DTEND:20170607T130000Z
LOCATION:Edificio: 02 Salón: 401\,Universidad Javeriana\,Bogotá
SUMMARY:Género\, minería y territorio: una perspectiva comparada entre Chil
 e y Colombia
URL:https://www.asociacionlatinoamericanadeantropologia.net/congreso2017/in
 dex.php?option=com_jem&view=event&id=533:genero-mineria-y-territorio-una-p
 erspectiva-comparada-entre-chile-y-colombia
END:VEVENT
END:VCALENDAR
