BEGIN:VCALENDAR
VERSION:2.0
PRODID:-//192.99.84.55//NONSGML kigkonsult.se iCalcreator 2.20//
CALSCALE:GREGORIAN
METHOD:PUBLISH
X-WR-TIMEZONE:UTC
BEGIN:VEVENT
UID:event531@Congreso 2017
DTSTAMP:20260421T074045Z
CATEGORIES:6. Extractivismo\, tierra y conflictos socioambientales\, Simpos
 io: promovido por el comité académico del congreso. Extractivismo: derecho
 s\, conflictos y resi
DESCRIPTION:Disputas y negociaciones entre pueblos indígenas\, empresas min
 eras y Estado: Una mirada comparativa transandina a la minería de salar en
  Atacama (Argentina\, Chile)\nCategoría: 6. Extractivismo\, tierra y confl
 ictos socioambientales\, Simposio: promovido por el comité académico del c
 ongreso. Extractivismo: derechos\, conflictos y resi\nEnlace: https://www.
 asociacionlatinoamericanadeantropologia.net/congreso2017/index.php?option=
 com_jem&view=event&id=531:disputas-y-negociaciones-entre-pueblos-indigenas
 -empresas-mineras-y-estado-una-mirada-comparativa-transandina-a-la-mineria
 -de-salar-en-atacama-argentina-chile\n
DTSTART:20170607T110000Z
DTEND:20170607T130000Z
LOCATION:Edificio: 02 Salón: 401\,Universidad Javeriana\,Bogotá
SUMMARY:Disputas y negociaciones entre pueblos indígenas\, empresas mineras
  y Estado: Una mirada comparativa transandina a la minería de salar en Ata
 cama (Argentina\, Chile)
URL:https://www.asociacionlatinoamericanadeantropologia.net/congreso2017/in
 dex.php?option=com_jem&view=event&id=531:disputas-y-negociaciones-entre-pu
 eblos-indigenas-empresas-mineras-y-estado-una-mirada-comparativa-transandi
 na-a-la-mineria-de-salar-en-atacama-argentina-chile
END:VEVENT
END:VCALENDAR
