BEGIN:VCALENDAR
VERSION:2.0
PRODID:-//192.99.84.55//NONSGML kigkonsult.se iCalcreator 2.20//
CALSCALE:GREGORIAN
METHOD:PUBLISH
X-WR-TIMEZONE:UTC
BEGIN:VEVENT
UID:event530@Congreso 2017
DTSTAMP:20260421T073747Z
CATEGORIES:6. Extractivismo\, tierra y conflictos socioambientales\, Simpos
 io: promovido por el comité académico del congreso. Extractivismo: derecho
 s\, conflictos y resi
DESCRIPTION:Conocimiento experto\, intervención estatal y extractivismo: La
  producción de la Altillanura y los Montes de María como terra nullius\nCa
 tegoría: 6. Extractivismo\, tierra y conflictos socioambientales\, Simposi
 o: promovido por el comité académico del congreso. Extractivismo: derechos
 \, conflictos y resi\nEnlace: https://www.asociacionlatinoamericanadeantro
 pologia.net/congreso2017/index.php?option=com_jem&view=event&id=530:conoci
 miento-experto-intervencion-estatal-y-extractivismo-la-produccion-de-la-al
 tillanura-y-los-montes-de-maria-como-terra-nullius\n
DTSTART:20170607T110000Z
DTEND:20170607T130000Z
LOCATION:Edificio: 02 Salón: 401\,Universidad Javeriana\,Bogotá
SUMMARY:Conocimiento experto\, intervención estatal y extractivismo: La pro
 ducción de la Altillanura y los Montes de María como terra nullius
URL:https://www.asociacionlatinoamericanadeantropologia.net/congreso2017/in
 dex.php?option=com_jem&view=event&id=530:conocimiento-experto-intervencion
 -estatal-y-extractivismo-la-produccion-de-la-altillanura-y-los-montes-de-m
 aria-como-terra-nullius
END:VEVENT
END:VCALENDAR
