BEGIN:VCALENDAR
VERSION:2.0
PRODID:-//192.99.84.55//NONSGML kigkonsult.se iCalcreator 2.20//
CALSCALE:GREGORIAN
METHOD:PUBLISH
X-WR-TIMEZONE:UTC
BEGIN:VEVENT
UID:event524@Congreso 2017
DTSTAMP:20260421T071546Z
CATEGORIES:6. Extractivismo\, tierra y conflictos socioambientales\, Simpos
 io: Gestión Territorial y Biodiversidad: entre conflictos\, saberes y cons
 ervación
DESCRIPTION:El 'Avatar' colombiano: sobre el proceso de defensa del territo
 rio de las comunidades indígenas del resguardo Yaigojé-Apaporis\, Vaupés\,
  Colombia\nCategoría: 6. Extractivismo\, tierra y conflictos socioambienta
 les\, Simposio: Gestión Territorial y Biodiversidad: entre conflictos\, sa
 beres y conservación\nEnlace: https://www.asociacionlatinoamericanadeantro
 pologia.net/congreso2017/index.php?option=com_jem&view=event&id=524:el-ava
 tar-colombiano-sobre-el-proceso-de-defensa-del-territorio-de-las-comunidad
 es-indigenas-del-resguardo-yaigoje-apaporis-vaupes-colombia\n
DTSTART:20170607T090000Z
DTEND:20170607T110000Z
LOCATION:Edificio: 67 Salón: 405\,Universidad Javeriana\,Bogotá
SUMMARY:El 'Avatar' colombiano: sobre el proceso de defensa del territorio 
 de las comunidades indígenas del resguardo Yaigojé-Apaporis\, Vaupés\, Col
 ombia
URL:https://www.asociacionlatinoamericanadeantropologia.net/congreso2017/in
 dex.php?option=com_jem&view=event&id=524:el-avatar-colombiano-sobre-el-pro
 ceso-de-defensa-del-territorio-de-las-comunidades-indigenas-del-resguardo-
 yaigoje-apaporis-vaupes-colombia
END:VEVENT
END:VCALENDAR
