BEGIN:VCALENDAR
VERSION:2.0
PRODID:-//192.99.84.55//NONSGML kigkonsult.se iCalcreator 2.20//
CALSCALE:GREGORIAN
METHOD:PUBLISH
X-WR-TIMEZONE:UTC
BEGIN:VEVENT
UID:event5@Congreso 2017
DTSTAMP:20260421T052751Z
CATEGORIES: Simposio: promovido por el comité académico del congreso. Antro
 pologías del Caribe: entre sincretis\, 1. Geopolíticas del conocimiento y 
 antropologías del sur
DESCRIPTION:Repensando la Soberanía desde el Caribe\nCategoría:  Simposio: 
 promovido por el comité académico del congreso. Antropologías del Caribe: 
 entre sincretis\, 1. Geopolíticas del conocimiento y antropologías del sur
 \nEnlace: https://www.asociacionlatinoamericanadeantropologia.net/congreso
 2017/index.php?option=com_jem&view=event&id=5:repensando-la-soberania-desd
 e-el-caribe\n
DTSTART:20170607T090000Z
DTEND:20170607T110000Z
LOCATION:Edificio: 02 Salón: 307\,Universidad Javeriana\,Salón: 307 Bogotá
SUMMARY:Repensando la Soberanía desde el Caribe
URL:https://www.asociacionlatinoamericanadeantropologia.net/congreso2017/in
 dex.php?option=com_jem&view=event&id=5:repensando-la-soberania-desde-el-ca
 ribe
END:VEVENT
END:VCALENDAR
