BEGIN:VCALENDAR
VERSION:2.0
PRODID:-//192.99.84.55//NONSGML kigkonsult.se iCalcreator 2.20//
CALSCALE:GREGORIAN
METHOD:PUBLISH
X-WR-TIMEZONE:UTC
BEGIN:VEVENT
UID:event464@Congreso 2017
DTSTAMP:20260421T071544Z
CATEGORIES:5. Problematizaciones y límites de la cultura\, Simposio: Relaçõ
 es Humano-Animal na Antropologia 
DESCRIPTION:’Fieros’ y ‘criados’. Devenires animales en los cerros de Jujuy
  (Argentina)\nCategoría: 5. Problematizaciones y límites de la cultura\, S
 imposio: Relações Humano-Animal na Antropologia \nEnlace: https://www.asoc
 iacionlatinoamericanadeantropologia.net/congreso2017/index.php?option=com_
 jem&view=event&id=464:fieros-y-criados-devenires-animales-en-los-cerros-de
 -jujuy-argentina\n
DTSTART:20170608T110000Z
DTEND:20170608T130000Z
LOCATION:Edificio: 67 Salón: 503\,Universidad Javeriana\,Bogotá
SUMMARY:’Fieros’ y ‘criados’. Devenires animales en los cerros de Jujuy (Ar
 gentina)
URL:https://www.asociacionlatinoamericanadeantropologia.net/congreso2017/in
 dex.php?option=com_jem&view=event&id=464:fieros-y-criados-devenires-animal
 es-en-los-cerros-de-jujuy-argentina
END:VEVENT
END:VCALENDAR
