BEGIN:VCALENDAR
VERSION:2.0
PRODID:-//192.99.84.55//NONSGML kigkonsult.se iCalcreator 2.20//
CALSCALE:GREGORIAN
METHOD:PUBLISH
X-WR-TIMEZONE:UTC
BEGIN:VEVENT
UID:event453@Congreso 2017
DTSTAMP:20260421T071633Z
CATEGORIES:5. Problematizaciones y límites de la cultura\, Simposio: promov
 ido por el comité académico del congreso. Ontologías y antropología contem
 poránea 
DESCRIPTION:Ecología de la vida campesina tatacoense. Ciclo vital\, una per
 spectiva del habitar. \nCategoría: 5. Problematizaciones y límites de la c
 ultura\, Simposio: promovido por el comité académico del congreso. Ontolog
 ías y antropología contemporánea \nEnlace: https://www.asociacionlatinoame
 ricanadeantropologia.net/congreso2017/index.php?option=com_jem&view=event&
 id=453:ecologia-de-la-vida-campesina-tatacoense-ciclo-vital-una-perspectiv
 a-del-habitar\n
DTSTART:20170607T110000Z
DTEND:20170607T130000Z
LOCATION:Edificio: 02 Salón: 002\,Universidad Javeriana\,Bogotá
SUMMARY:Ecología de la vida campesina tatacoense. Ciclo vital\, una perspec
 tiva del habitar. 
URL:https://www.asociacionlatinoamericanadeantropologia.net/congreso2017/in
 dex.php?option=com_jem&view=event&id=453:ecologia-de-la-vida-campesina-tat
 acoense-ciclo-vital-una-perspectiva-del-habitar
END:VEVENT
END:VCALENDAR
