BEGIN:VCALENDAR
VERSION:2.0
PRODID:-//192.99.84.55//NONSGML kigkonsult.se iCalcreator 2.20//
CALSCALE:GREGORIAN
METHOD:PUBLISH
X-WR-TIMEZONE:UTC
BEGIN:VEVENT
UID:event45@Congreso 2017
DTSTAMP:20260421T071817Z
CATEGORIES:5. Problematizaciones y límites de la cultura\, Simposio: promov
 ido por el comité académico del congreso. Ontologías y antropología contem
 poránea 
DESCRIPTION:Simposio: promovido por el comité académico del congreso. Ontol
 ogías y antropología contemporánea \nCategoría: 5. Problematizaciones y lí
 mites de la cultura\, Simposio: promovido por el comité académico del cong
 reso. Ontologías y antropología contemporánea \nEnlace: https://www.asocia
 cionlatinoamericanadeantropologia.net/congreso2017/index.php?option=com_je
 m&view=event&id=45:simposio-promovido-por-el-comite-academico-del-congreso
 -ontologias-y-antropologia-contemporanea\n
DTSTART:20170607T110000Z
DTEND:20170607T180000Z
LOCATION:Edificio: 02 Salón: 002\,Universidad Javeriana\,Bogotá
SUMMARY:Simposio: promovido por el comité académico del congreso. Ontología
 s y antropología contemporánea 
URL:https://www.asociacionlatinoamericanadeantropologia.net/congreso2017/in
 dex.php?option=com_jem&view=event&id=45:simposio-promovido-por-el-comite-a
 cademico-del-congreso-ontologias-y-antropologia-contemporanea
END:VEVENT
END:VCALENDAR
