BEGIN:VCALENDAR
VERSION:2.0
PRODID:-//192.99.84.55//NONSGML kigkonsult.se iCalcreator 2.20//
CALSCALE:GREGORIAN
METHOD:PUBLISH
X-WR-TIMEZONE:UTC
BEGIN:VEVENT
UID:event448@Congreso 2017
DTSTAMP:20260421T071633Z
CATEGORIES:5. Problematizaciones y límites de la cultura\, Simposio: promov
 ido por el comité académico del congreso. Ontologías y antropología contem
 poránea 
DESCRIPTION:Toponimia de rescate\, etnofisiografía y extractivismo: el caso
  de la lengua bain coca del Bajo Putumayo\nCategoría: 5. Problematizacione
 s y límites de la cultura\, Simposio: promovido por el comité académico de
 l congreso. Ontologías y antropología contemporánea \nEnlace: https://www.
 asociacionlatinoamericanadeantropologia.net/congreso2017/index.php?option=
 com_jem&view=event&id=448:toponimia-de-rescate-etnofisiografia-y-extractiv
 ismo-el-caso-de-la-lengua-bain-coca-del-bajo-putumayo\n
DTSTART:20170607T110000Z
DTEND:20170607T130000Z
LOCATION:Edificio: 02 Salón: 002\,Universidad Javeriana\,Bogotá
SUMMARY:Toponimia de rescate\, etnofisiografía y extractivismo: el caso de 
 la lengua bain coca del Bajo Putumayo
URL:https://www.asociacionlatinoamericanadeantropologia.net/congreso2017/in
 dex.php?option=com_jem&view=event&id=448:toponimia-de-rescate-etnofisiogra
 fia-y-extractivismo-el-caso-de-la-lengua-bain-coca-del-bajo-putumayo
END:VEVENT
END:VCALENDAR
