BEGIN:VCALENDAR
VERSION:2.0
PRODID:-//192.99.84.55//NONSGML kigkonsult.se iCalcreator 2.20//
CALSCALE:GREGORIAN
METHOD:PUBLISH
X-WR-TIMEZONE:UTC
BEGIN:VEVENT
UID:event445@Congreso 2017
DTSTAMP:20260421T071444Z
CATEGORIES:5. Problematizaciones y límites de la cultura\, Simposio: promov
 ido por el comité académico del congreso. Ontologías y antropología contem
 poránea 
DESCRIPTION:Cristo en el Atrato: Un episodio en la historia de la facultad 
 mimética\nCategoría: 5. Problematizaciones y límites de la cultura\, Simpo
 sio: promovido por el comité académico del congreso. Ontologías y antropol
 ogía contemporánea \nEnlace: https://www.asociacionlatinoamericanadeantrop
 ologia.net/congreso2017/index.php?option=com_jem&view=event&id=445:cristo-
 en-el-atrato-un-episodio-en-la-historia-de-la-facultad-mimetica\n
DTSTART:20170607T110000Z
DTEND:20170607T130000Z
LOCATION:Edificio: 02 Salón: 002\,Universidad Javeriana\,Bogotá
SUMMARY:Cristo en el Atrato: Un episodio en la historia de la facultad mimé
 tica
URL:https://www.asociacionlatinoamericanadeantropologia.net/congreso2017/in
 dex.php?option=com_jem&view=event&id=445:cristo-en-el-atrato-un-episodio-e
 n-la-historia-de-la-facultad-mimetica
END:VEVENT
END:VCALENDAR
