BEGIN:VCALENDAR
VERSION:2.0
PRODID:-//192.99.84.55//NONSGML kigkonsult.se iCalcreator 2.20//
CALSCALE:GREGORIAN
METHOD:PUBLISH
X-WR-TIMEZONE:UTC
BEGIN:VEVENT
UID:event388@Congreso 2017
DTSTAMP:20260421T071442Z
CATEGORIES:4. Formación antropológica\, Simposio: promovido por el comité a
 cadémico del congreso. Condiciones y retos para el ejercicio de l
DESCRIPTION:Antropología de la simulación. Las enseñanzas caducas y la étic
 a en los procesos formativos del antropólogo\nCategoría: 4. Formación antr
 opológica\, Simposio: promovido por el comité académico del congreso. Cond
 iciones y retos para el ejercicio de l\nEnlace: https://www.asociacionlati
 noamericanadeantropologia.net/congreso2017/index.php?option=com_jem&view=e
 vent&id=388:antropologia-de-la-simulacion-las-ensenanzas-caducas-y-la-etic
 a-en-los-procesos-formativos-del-antropologo\n
DTSTART:20170609T090000Z
DTEND:20170609T110000Z
LOCATION:Edificio: 02 Salón: 404\,Universidad Javeriana\,Bogotá
SUMMARY:Antropología de la simulación. Las enseñanzas caducas y la ética en
  los procesos formativos del antropólogo
URL:https://www.asociacionlatinoamericanadeantropologia.net/congreso2017/in
 dex.php?option=com_jem&view=event&id=388:antropologia-de-la-simulacion-las
 -ensenanzas-caducas-y-la-etica-en-los-procesos-formativos-del-antropologo
END:VEVENT
END:VCALENDAR
