BEGIN:VCALENDAR
VERSION:2.0
PRODID:-//192.99.84.55//NONSGML kigkonsult.se iCalcreator 2.20//
CALSCALE:GREGORIAN
METHOD:PUBLISH
X-WR-TIMEZONE:UTC
BEGIN:VEVENT
UID:event30@Congreso 2017
DTSTAMP:20260421T054443Z
CATEGORIES:3. Antropología aplicada y prácticas no académicas\, Simposio: C
 uando los restos “hablan”: antropología forense y verdad 
DESCRIPTION:Simposio: Cuando los restos “hablan”: antropología forense y ve
 rdad \nCategoría: 3. Antropología aplicada y prácticas no académicas\, Sim
 posio: Cuando los restos “hablan”: antropología forense y verdad \nEnlace:
  https://www.asociacionlatinoamericanadeantropologia.net/congreso2017/inde
 x.php?option=com_jem&view=event&id=30:simposio-cuando-los-restos-hablan-an
 tropologia-forense-y-verdad\n
DTSTART:20170609T090000Z
DTEND:20170609T110000Z
LOCATION:Edificio: 02 Salón: 307\,Universidad Javeriana\,Salón: 307 Bogotá
SUMMARY:Simposio: Cuando los restos “hablan”: antropología forense y verdad
  
URL:https://www.asociacionlatinoamericanadeantropologia.net/congreso2017/in
 dex.php?option=com_jem&view=event&id=30:simposio-cuando-los-restos-hablan-
 antropologia-forense-y-verdad
END:VEVENT
END:VCALENDAR
