BEGIN:VCALENDAR
VERSION:2.0
PRODID:-//192.99.84.55//NONSGML kigkonsult.se iCalcreator 2.20//
CALSCALE:GREGORIAN
METHOD:PUBLISH
X-WR-TIMEZONE:UTC
BEGIN:VEVENT
UID:event281@Congreso 2017
DTSTAMP:20260421T053816Z
CATEGORIES:3. Antropología aplicada y prácticas no académicas\, Mesa de tra
 bajo: Cuando la función pública es hacer investigación. El caso del grupo 
 de antropologia
DESCRIPTION:Violencia: desde la perspectiva de la arqueología forense \nCat
 egoría: 3. Antropología aplicada y prácticas no académicas\, Mesa de traba
 jo: Cuando la función pública es hacer investigación. El caso del grupo de
  antropologia\nEnlace: https://www.asociacionlatinoamericanadeantropologia
 .net/congreso2017/index.php?option=com_jem&view=event&id=281\n
DTSTART:20170609T110000Z
DTEND:20170609T130000Z
LOCATION:Edificio: 02 Salón: 307\,Universidad Javeriana\,Salón: 307 Bogotá
SUMMARY:Violencia: desde la perspectiva de la arqueología forense 
URL:https://www.asociacionlatinoamericanadeantropologia.net/congreso2017/in
 dex.php?option=com_jem&view=event&id=281
END:VEVENT
END:VCALENDAR
