BEGIN:VCALENDAR
VERSION:2.0
PRODID:-//192.99.84.55//NONSGML kigkonsult.se iCalcreator 2.20//
CALSCALE:GREGORIAN
METHOD:PUBLISH
X-WR-TIMEZONE:UTC
BEGIN:VEVENT
UID:event198@Congreso 2017
DTSTAMP:20260421T071442Z
CATEGORIES:10. Violencia\, guerra y transiciones\, Mesa de trabajo: Tendenc
 ias de los estudios antropológicos sobre violencias en América Latina
DESCRIPTION:Mesa de trabajo: Tendencias de los estudios antropológicos sobr
 e violencias en América Latina \nCategoría: 10. Violencia\, guerra y trans
 iciones\, Mesa de trabajo: Tendencias de los estudios antropológicos sobre
  violencias en América Latina\nEnlace: https://www.asociacionlatinoamerica
 nadeantropologia.net/congreso2017/index.php?option=com_jem&view=event&id=1
 98:mesa-de-trabajo-tendencias-de-los-estudios-antropologicos-sobre-violenc
 ias-en-america-latina\n
DTSTART:20170606T140000Z
DTEND:20170607T110000Z
LOCATION:Edificio: 02 Salón: 206\,Universidad Javeriana\,Bogotá
SUMMARY:Mesa de trabajo: Tendencias de los estudios antropológicos sobre vi
 olencias en América Latina 
URL:https://www.asociacionlatinoamericanadeantropologia.net/congreso2017/in
 dex.php?option=com_jem&view=event&id=198:mesa-de-trabajo-tendencias-de-los
 -estudios-antropologicos-sobre-violencias-en-america-latina
END:VEVENT
END:VCALENDAR
