BEGIN:VCALENDAR
VERSION:2.0
PRODID:-//192.99.84.55//NONSGML kigkonsult.se iCalcreator 2.20//
CALSCALE:GREGORIAN
METHOD:PUBLISH
X-WR-TIMEZONE:UTC
BEGIN:VEVENT
UID:event190@Congreso 2017
DTSTAMP:20260421T055720Z
CATEGORIES:10. Violencia\, guerra y transiciones\, Simposio: Sujetos en tra
 nsición: Configuraciones morales en la construcción social del territorio
DESCRIPTION:Simposio: Sujetos en transición: Configuraciones morales en la 
 construcción social del territorio \nCategoría: 10. Violencia\, guerra y t
 ransiciones\, Simposio: Sujetos en transición: Configuraciones morales en 
 la construcción social del territorio\nEnlace: https://www.asociacionlatin
 oamericanadeantropologia.net/congreso2017/index.php?option=com_jem&view=ev
 ent&id=190:simposio-sujetos-en-transicion-configuraciones-morales-en-la-co
 nstruccion-social-del-territorio\n
DTSTART:20170606T140000Z
DTEND:20170606T160000Z
LOCATION:Edificio: 02 Salón: 307\,Universidad Javeriana\,Salón: 307 Bogotá
SUMMARY:Simposio: Sujetos en transición: Configuraciones morales en la cons
 trucción social del territorio 
URL:https://www.asociacionlatinoamericanadeantropologia.net/congreso2017/in
 dex.php?option=com_jem&view=event&id=190:simposio-sujetos-en-transicion-co
 nfiguraciones-morales-en-la-construccion-social-del-territorio
END:VEVENT
END:VCALENDAR
