BEGIN:VCALENDAR
VERSION:2.0
PRODID:-//192.99.84.55//NONSGML kigkonsult.se iCalcreator 2.20//
CALSCALE:GREGORIAN
METHOD:PUBLISH
X-WR-TIMEZONE:UTC
BEGIN:VEVENT
UID:event180@Congreso 2017
DTSTAMP:20260421T014729Z
CATEGORIES:1. Geopolíticas del conocimiento y antropologías del sur\, Simpo
 sio: Miradas a las prácticas antropológicas desde el SurOccidente colombia
 no
DESCRIPTION:Educación y caficultura:  la alternativa por el buen vivir y la
  interculturalidad en la región andina de Colombia\nCategoría: 1. Geopolít
 icas del conocimiento y antropologías del sur\, Simposio: Miradas a las pr
 ácticas antropológicas desde el SurOccidente colombiano\nEnlace: https://w
 ww.asociacionlatinoamericanadeantropologia.net/congreso2017/index.php?opti
 on=com_jem&view=event&id=180:educacion-y-caficultura-la-alternativa-por-el
 -buen-vivir-y-la-interculturalidad-en-la-region-andina-de-colombia\n
DTSTART:20170609T110000Z
DTEND:20170609T130000Z
LOCATION:Edificio: 67 Salón: 411\,Universidad Javeriana\,Salón: 411 Bogotá
SUMMARY:Educación y caficultura:  la alternativa por el buen vivir y la int
 erculturalidad en la región andina de Colombia
URL:https://www.asociacionlatinoamericanadeantropologia.net/congreso2017/in
 dex.php?option=com_jem&view=event&id=180:educacion-y-caficultura-la-altern
 ativa-por-el-buen-vivir-y-la-interculturalidad-en-la-region-andina-de-colo
 mbia
END:VEVENT
END:VCALENDAR
