BEGIN:VCALENDAR
VERSION:2.0
PRODID:-//192.99.84.55//NONSGML kigkonsult.se iCalcreator 2.20//
CALSCALE:GREGORIAN
METHOD:PUBLISH
X-WR-TIMEZONE:UTC
BEGIN:VEVENT
UID:event1745@Congreso 2017
DTSTAMP:20260421T060119Z
CATEGORIES:17. Etnoeducación e Interculturalidad\,  Simposio: Sordedad y Et
 nicidad Sorda: Continuidades y discontinuidades en la etnoeducación e inte
 rc
DESCRIPTION:Simposio:  Sordedad y Etnicidad Sorda: Continuidades y disconti
 nuidades en la etnoeducación e interculturalidad en torno a los hablantes 
 de la lengua de señas colombiana\nCategoría: 17. Etnoeducación e Intercult
 uralidad\,  Simposio: Sordedad y Etnicidad Sorda: Continuidades y disconti
 nuidades en la etnoeducación e interc\nEnlace: https://www.asociacionlatin
 oamericanadeantropologia.net/congreso2017/index.php?option=com_jem&view=ev
 ent&id=1745:simposio-sordedad-y-etnicidad-sorda-continuidades-y-discontinu
 idades-en-la-etnoeducacion-e-interculturalidad-en-torno-a-los-hablantes-de
 -la-lengua-de-senas-colombiana\n
DTSTART:20170607T090000Z
DTEND:20170607T160000Z
LOCATION:Edificio: 02 Salón: 407\,Universidad Javeriana\,Bogotá
SUMMARY:Simposio:  Sordedad y Etnicidad Sorda: Continuidades y discontinuid
 ades en la etnoeducación e interculturalidad en torno a los hablantes de l
 a lengua de señas colombiana
URL:https://www.asociacionlatinoamericanadeantropologia.net/congreso2017/in
 dex.php?option=com_jem&view=event&id=1745:simposio-sordedad-y-etnicidad-so
 rda-continuidades-y-discontinuidades-en-la-etnoeducacion-e-interculturalid
 ad-en-torno-a-los-hablantes-de-la-lengua-de-senas-colombiana
END:VEVENT
END:VCALENDAR
