BEGIN:VCALENDAR
VERSION:2.0
PRODID:-//192.99.84.55//NONSGML kigkonsult.se iCalcreator 2.20//
CALSCALE:GREGORIAN
METHOD:PUBLISH
X-WR-TIMEZONE:UTC
BEGIN:VEVENT
UID:event1717@Congreso 2017
DTSTAMP:20260421T012808Z
CATEGORIES:14. Políticas de la salud\, el bienestar y la enfermedad \, Simp
 osio: Estudios antropológicos de la medicalización
DESCRIPTION:Simposio:  Estudios antropológicos de la medicalización\nCatego
 ría: 14. Políticas de la salud\, el bienestar y la enfermedad \, Simposio:
  Estudios antropológicos de la medicalización\nEnlace: https://www.asociac
 ionlatinoamericanadeantropologia.net/congreso2017/index.php?option=com_jem
 &view=event&id=1717:simposio-estudios-antropologicos-de-la-medicalizacion
 \n
DTSTART:20170608T090000Z
DTEND:20170608T160000Z
LOCATION:Edificio: 67 Salón: 411\,Universidad Javeriana\,Salón: 411 Bogotá
SUMMARY:Simposio:  Estudios antropológicos de la medicalización
URL:https://www.asociacionlatinoamericanadeantropologia.net/congreso2017/in
 dex.php?option=com_jem&view=event&id=1717:simposio-estudios-antropologicos
 -de-la-medicalizacion
END:VEVENT
END:VCALENDAR
