BEGIN:VCALENDAR
VERSION:2.0
PRODID:-//192.99.84.55//NONSGML kigkonsult.se iCalcreator 2.20//
CALSCALE:GREGORIAN
METHOD:PUBLISH
X-WR-TIMEZONE:UTC
BEGIN:VEVENT
UID:event1710@Congreso 2017
DTSTAMP:20260421T071546Z
CATEGORIES:16. Políticas culturales\, patrimonio y turismo\, Mesa de trabaj
 o: Las Redes de las Políticas culturales: Patrimonios\, Museos y Derecho a
  la Diferenci
DESCRIPTION:Mesa de trabajo: Las Redes de las Políticas culturales: Patrimo
 nios\, Museos y Derecho a la Diferencia\nCategoría: 16. Políticas cultural
 es\, patrimonio y turismo\, Mesa de trabajo: Las Redes de las Políticas cu
 lturales: Patrimonios\, Museos y Derecho a la Diferenci\nEnlace: https://w
 ww.asociacionlatinoamericanadeantropologia.net/congreso2017/index.php?opti
 on=com_jem&view=event&id=1710:mesa-de-trabajo-las-redes-de-las-politicas-c
 ulturales-patrimonios-museos-y-derecho-a-la-diferencia\n
DTSTART:20170609T110000Z
DTEND:20170609T130000Z
LOCATION:Edificio: 67 Salón: 410\,Universidad Javeriana\,Bogotá
SUMMARY:Mesa de trabajo: Las Redes de las Políticas culturales: Patrimonios
 \, Museos y Derecho a la Diferencia
URL:https://www.asociacionlatinoamericanadeantropologia.net/congreso2017/in
 dex.php?option=com_jem&view=event&id=1710:mesa-de-trabajo-las-redes-de-las
 -politicas-culturales-patrimonios-museos-y-derecho-a-la-diferencia
END:VEVENT
END:VCALENDAR
