BEGIN:VCALENDAR
VERSION:2.0
PRODID:-//192.99.84.55//NONSGML kigkonsult.se iCalcreator 2.20//
CALSCALE:GREGORIAN
METHOD:PUBLISH
X-WR-TIMEZONE:UTC
BEGIN:VEVENT
UID:event1697@Congreso 2017
DTSTAMP:20260420T180803Z
CATEGORIES:MUESTRA AUDIOVISUAL
DESCRIPTION:La Amazonía (des)cinematografiada\nCategoría: MUESTRA AUDIOVISU
 AL\nEnlace: https://www.asociacionlatinoamericanadeantropologia.net/congre
 so2017/index.php?option=com_jem&view=event&id=1697:la-amazonia-des-cinemat
 ografiada\n
DTSTART:20170607T163000Z
DTEND:20170607T171000Z
LOCATION:Auditorio Marino Troncoso\, Edificio Fernando Baron\,Universidad J
 averiana
SUMMARY:La Amazonía (des)cinematografiada
URL:https://www.asociacionlatinoamericanadeantropologia.net/congreso2017/in
 dex.php?option=com_jem&view=event&id=1697:la-amazonia-des-cinematografiada
END:VEVENT
END:VCALENDAR
