BEGIN:VCALENDAR
VERSION:2.0
PRODID:-//192.99.84.55//NONSGML kigkonsult.se iCalcreator 2.20//
CALSCALE:GREGORIAN
METHOD:PUBLISH
X-WR-TIMEZONE:UTC
BEGIN:VEVENT
UID:event1692@Congreso 2017
DTSTAMP:20260421T060058Z
CATEGORIES:17. Etnoeducación e Interculturalidad\,  Simposio: Sordedad y Et
 nicidad Sorda: Continuidades y discontinuidades en la etnoeducación e inte
 rc
DESCRIPTION:Sordedad y Etnicidad Sorda: Continuidades y discontinuidades en
  la etnoeducación e interculturalidad en torno a los hablantes de la lengu
 a de señas colombiana Simposio\nCategoría: 17. Etnoeducación e Intercultur
 alidad\,  Simposio: Sordedad y Etnicidad Sorda: Continuidades y discontinu
 idades en la etnoeducación e interc\nEnlace: https://www.asociacionlatinoa
 mericanadeantropologia.net/congreso2017/index.php?option=com_jem&view=even
 t&id=1692:sordedad-y-etnicidad-sorda-continuidades-y-discontinuidades-en-l
 a-etnoeducacion-e-interculturalidad-en-torno-a-los-hablantes-de-la-lengua-
 de-senas-colombiana-simposio\n
DTSTART:20170607T090000Z
DTEND:20170607T160000Z
LOCATION:Edificio: 02 Salón: 407\,Universidad Javeriana\,Bogotá
SUMMARY:Sordedad y Etnicidad Sorda: Continuidades y discontinuidades en la 
 etnoeducación e interculturalidad en torno a los hablantes de la lengua de
  señas colombiana Simposio
URL:https://www.asociacionlatinoamericanadeantropologia.net/congreso2017/in
 dex.php?option=com_jem&view=event&id=1692:sordedad-y-etnicidad-sorda-conti
 nuidades-y-discontinuidades-en-la-etnoeducacion-e-interculturalidad-en-tor
 no-a-los-hablantes-de-la-lengua-de-senas-colombiana-simposio
END:VEVENT
END:VCALENDAR
