BEGIN:VCALENDAR
VERSION:2.0
PRODID:-//192.99.84.55//NONSGML kigkonsult.se iCalcreator 2.20//
CALSCALE:GREGORIAN
METHOD:PUBLISH
X-WR-TIMEZONE:UTC
BEGIN:VEVENT
UID:event1682@Congreso 2017
DTSTAMP:20260420T180635Z
CATEGORIES:ANTROPOLOGÍA EN IMÁGENES\, MUESTRA AUDIOVISUAL
DESCRIPTION:Huellas para la memoria \nCategoría: ANTROPOLOGÍA EN IMÁGENES\,
  MUESTRA AUDIOVISUAL\nEnlace: https://www.asociacionlatinoamericanadeantro
 pologia.net/congreso2017/index.php?option=com_jem&view=event&id=1682:huell
 as-para-la-memoria\n
DTSTART:20170607T160000Z
DTEND:20170607T163000Z
LOCATION:Auditorio Marino Troncoso\, Edificio Fernando Baron\,Universidad J
 averiana
SUMMARY:Huellas para la memoria 
URL:https://www.asociacionlatinoamericanadeantropologia.net/congreso2017/in
 dex.php?option=com_jem&view=event&id=1682:huellas-para-la-memoria
END:VEVENT
END:VCALENDAR
