BEGIN:VCALENDAR
VERSION:2.0
PRODID:-//192.99.84.55//NONSGML kigkonsult.se iCalcreator 2.20//
CALSCALE:GREGORIAN
METHOD:PUBLISH
X-WR-TIMEZONE:UTC
BEGIN:VEVENT
UID:event1681@Congreso 2017
DTSTAMP:20260420T180927Z
CATEGORIES:ANTROPOLOGÍA EN IMÁGENES\, MUESTRA AUDIOVISUAL
DESCRIPTION:Nuevo Horizonte- Memorias del conflicto y la reinserción\nCateg
 oría: ANTROPOLOGÍA EN IMÁGENES\, MUESTRA AUDIOVISUAL\nEnlace: https://www.
 asociacionlatinoamericanadeantropologia.net/congreso2017/index.php?option=
 com_jem&view=event&id=1681:nuevo-horizonte-memorias-del-conflicto-y-la-rei
 nsercio-n\n
DTSTART:20170607T110000Z
DTEND:20170607T120000Z
LOCATION:Auditorio Marino Troncoso\, Edificio Fernando Baron\,Universidad J
 averiana
SUMMARY:Nuevo Horizonte- Memorias del conflicto y la reinserción
URL:https://www.asociacionlatinoamericanadeantropologia.net/congreso2017/in
 dex.php?option=com_jem&view=event&id=1681:nuevo-horizonte-memorias-del-con
 flicto-y-la-reinsercio-n
END:VEVENT
END:VCALENDAR
